BEGIN:VCALENDAR
VERSION:2.0
PRODID:-//Camping Park Zum Jone Bur Monschau - ECPv4.5.1//NONSGML v1.0//EN
CALSCALE:GREGORIAN
METHOD:PUBLISH
X-WR-CALNAME:Camping Park Zum Jone Bur Monschau
X-ORIGINAL-URL:https://zum-jone-bur.de
X-WR-CALDESC:Events for Camping Park Zum Jone Bur Monschau
BEGIN:VEVENT
DTSTART;TZID=UTC+1:20181230T170000
DTEND;TZID=UTC+1:20181230T190000
DTSTAMP:20260424T163451
CREATED:20170321T145953Z
LAST-MODIFIED:20181031T153611Z
UID:2208-1546189200-1546196400@zum-jone-bur.de
SUMMARY:GlÃ¼hweinfest
DESCRIPTION:Der ErlÃ¶s kommt der Jugendabteilung des TV Konzen zu Gute.\n\n\n\n 
URL:https://zum-jone-bur.de/event/gluehweinfest/
END:VEVENT
END:VCALENDAR