BEGIN:VCALENDAR
VERSION:2.0
PRODID:-//Camping Park Zum Jone Bur Monschau - ECPv4.5.1//NONSGML v1.0//EN
CALSCALE:GREGORIAN
METHOD:PUBLISH
X-WR-CALNAME:Camping Park Zum Jone Bur Monschau
X-ORIGINAL-URL:https://zum-jone-bur.de
X-WR-CALDESC:Events for Camping Park Zum Jone Bur Monschau
BEGIN:VEVENT
DTSTART;TZID=UTC+1:20190421T100000
DTEND;TZID=UTC+1:20190421T130000
DTSTAMP:20260424T162557
CREATED:20190320T155941Z
LAST-MODIFIED:20190320T155941Z
UID:2600-1555840800-1555851600@zum-jone-bur.de
SUMMARY:Osterfrühstück
DESCRIPTION:Genießen Sie am 21. April ein ausgiebiges Frühstück und beginnen Sie gemütlich ab 10 Uhr den Ostersonntag bei uns.\n\nBei Interesse einfach anrufen oder in der Rezeption melden!
URL:https://zum-jone-bur.de/event/osterfruehstueck/
END:VEVENT
END:VCALENDAR